Workbook

Sheet Sedute
A1: Carico di allenamento con sRPE – registro
A2: Compila le celle bianche, quelle grigie si calcolano da sole. Carico = durata (minuti) × RPE (0–10), unità AU (unità arbitrarie).
A3: Modello di Tletify – www.tletify.com. In Tletify la piattaforma calcola questi valori per ogni atleta.
A4: Data | B4: Seduta | C4: Durata (min) | D4: RPE (0–10) | E4: Carico (AU)
A5: 46391 | B5: Forza | C5: 60 | D5: 6 | E5: =IF(AND(ISNUMBER(C5),ISNUMBER(D5)),C5*D5,"")
E6: =IF(AND(ISNUMBER(C6),ISNUMBER(D6)),C6*D6,"")
E7: =IF(AND(ISNUMBER(C7),ISNUMBER(D7)),C7*D7,"")
E8: =IF(AND(ISNUMBER(C8),ISNUMBER(D8)),C8*D8,"")
E9: =IF(AND(ISNUMBER(C9),ISNUMBER(D9)),C9*D9,"")
E10: =IF(AND(ISNUMBER(C10),ISNUMBER(D10)),C10*D10,"")
E11: =IF(AND(ISNUMBER(C11),ISNUMBER(D11)),C11*D11,"")
E12: =IF(AND(ISNUMBER(C12),ISNUMBER(D12)),C12*D12,"")
E13: =IF(AND(ISNUMBER(C13),ISNUMBER(D13)),C13*D13,"")
E14: =IF(AND(ISNUMBER(C14),ISNUMBER(D14)),C14*D14,"")
E15: =IF(AND(ISNUMBER(C15),ISNUMBER(D15)),C15*D15,"")
E16: =IF(AND(ISNUMBER(C16),ISNUMBER(D16)),C16*D16,"")
E17: =IF(AND(ISNUMBER(C17),ISNUMBER(D17)),C17*D17,"")
... E204: =IF(AND(ISNUMBER(C204),ISNUMBER(D204)),C204*D204,"")

Sheet Giorni
A1: Carico di allenamento con sRPE – registro
A2: Inserisci la data di inizio (lunedì della prima settimana) nella cella A5: gli altri giorni seguono in automatico.
A3: Modello di Tletify – www.tletify.com. In Tletify la piattaforma calcola questi valori per ogni atleta.
A4: Data | B4: Carico giornaliero (AU)
A5: 46391 | B5: =SUMIF('Sedute'!$A$5:$A$204,A5,'Sedute'!$E$5:$E$204)
A6: =A5+1 | B6: =SUMIF('Sedute'!$A$5:$A$204,A6,'Sedute'!$E$5:$E$204)
A7: =A6+1 | B7: =SUMIF('Sedute'!$A$5:$A$204,A7,'Sedute'!$E$5:$E$204)
A8: =A7+1 | B8: =SUMIF('Sedute'!$A$5:$A$204,A8,'Sedute'!$E$5:$E$204)
A9: =A8+1 | B9: =SUMIF('Sedute'!$A$5:$A$204,A9,'Sedute'!$E$5:$E$204)
A10: =A9+1 | B10: =SUMIF('Sedute'!$A$5:$A$204,A10,'Sedute'!$E$5:$E$204)
A11: =A10+1 | B11: =SUMIF('Sedute'!$A$5:$A$204,A11,'Sedute'!$E$5:$E$204)
A12: =A11+1 | B12: =SUMIF('Sedute'!$A$5:$A$204,A12,'Sedute'!$E$5:$E$204)
A13: =A12+1 | B13: =SUMIF('Sedute'!$A$5:$A$204,A13,'Sedute'!$E$5:$E$204)
A14: =A13+1 | B14: =SUMIF('Sedute'!$A$5:$A$204,A14,'Sedute'!$E$5:$E$204)
A15: =A14+1 | B15: =SUMIF('Sedute'!$A$5:$A$204,A15,'Sedute'!$E$5:$E$204)
A16: =A15+1 | B16: =SUMIF('Sedute'!$A$5:$A$204,A16,'Sedute'!$E$5:$E$204)
A17: =A16+1 | B17: =SUMIF('Sedute'!$A$5:$A$204,A17,'Sedute'!$E$5:$E$204)
... A88: =A87+1 | B88: =SUMIF('Sedute'!$A$5:$A$204,A88,'Sedute'!$E$5:$E$204)

Sheet Settimane
A1: Carico di allenamento con sRPE – registro
A2: Monotonia = media settimanale ÷ deviazione standard dei 7 valori giornalieri (Foster 1998), al massimo 10. Da 2,0 i giorni sono molto uniformi. Strain = carico settimanale × monotonia.
A3: Modello di Tletify – www.tletify.com. In Tletify la piattaforma calcola questi valori per ogni atleta.
A4: Inizio settimana | B4: Carico settimanale (AU) | C4: Media (AU/giorno) | D4: Deviazione std. (AU) | E4: Monotonia | F4: Strain (AU)
A5: ='Giorni'!A5 | B5: =SUM('Giorni'!B5:B11) | C5: =AVERAGE('Giorni'!B5:B11) | D5: =STDEVP('Giorni'!B5:B11) | E5: =IF(B5=0,"",IF(D5=0,10,MIN(10,C5/D5))) | F5: =IF(E5="","",B5*E5)
A6: ='Giorni'!A12 | B6: =SUM('Giorni'!B12:B18) | C6: =AVERAGE('Giorni'!B12:B18) | D6: =STDEVP('Giorni'!B12:B18) | E6: =IF(B6=0,"",IF(D6=0,10,MIN(10,C6/D6))) | F6: =IF(E6="","",B6*E6)
A7: ='Giorni'!A19 | B7: =SUM('Giorni'!B19:B25) | C7: =AVERAGE('Giorni'!B19:B25) | D7: =STDEVP('Giorni'!B19:B25) | E7: =IF(B7=0,"",IF(D7=0,10,MIN(10,C7/D7))) | F7: =IF(E7="","",B7*E7)
A8: ='Giorni'!A26 | B8: =SUM('Giorni'!B26:B32) | C8: =AVERAGE('Giorni'!B26:B32) | D8: =STDEVP('Giorni'!B26:B32) | E8: =IF(B8=0,"",IF(D8=0,10,MIN(10,C8/D8))) | F8: =IF(E8="","",B8*E8)
A9: ='Giorni'!A33 | B9: =SUM('Giorni'!B33:B39) | C9: =AVERAGE('Giorni'!B33:B39) | D9: =STDEVP('Giorni'!B33:B39) | E9: =IF(B9=0,"",IF(D9=0,10,MIN(10,C9/D9))) | F9: =IF(E9="","",B9*E9)
A10: ='Giorni'!A40 | B10: =SUM('Giorni'!B40:B46) | C10: =AVERAGE('Giorni'!B40:B46) | D10: =STDEVP('Giorni'!B40:B46) | E10: =IF(B10=0,"",IF(D10=0,10,MIN(10,C10/D10))) | F10: =IF(E10="","",B10*E10)
A11: ='Giorni'!A47 | B11: =SUM('Giorni'!B47:B53) | C11: =AVERAGE('Giorni'!B47:B53) | D11: =STDEVP('Giorni'!B47:B53) | E11: =IF(B11=0,"",IF(D11=0,10,MIN(10,C11/D11))) | F11: =IF(E11="","",B11*E11)
A12: ='Giorni'!A54 | B12: =SUM('Giorni'!B54:B60) | C12: =AVERAGE('Giorni'!B54:B60) | D12: =STDEVP('Giorni'!B54:B60) | E12: =IF(B12=0,"",IF(D12=0,10,MIN(10,C12/D12))) | F12: =IF(E12="","",B12*E12)
A13: ='Giorni'!A61 | B13: =SUM('Giorni'!B61:B67) | C13: =AVERAGE('Giorni'!B61:B67) | D13: =STDEVP('Giorni'!B61:B67) | E13: =IF(B13=0,"",IF(D13=0,10,MIN(10,C13/D13))) | F13: =IF(E13="","",B13*E13)
A14: ='Giorni'!A68 | B14: =SUM('Giorni'!B68:B74) | C14: =AVERAGE('Giorni'!B68:B74) | D14: =STDEVP('Giorni'!B68:B74) | E14: =IF(B14=0,"",IF(D14=0,10,MIN(10,C14/D14))) | F14: =IF(E14="","",B14*E14)
A15: ='Giorni'!A75 | B15: =SUM('Giorni'!B75:B81) | C15: =AVERAGE('Giorni'!B75:B81) | D15: =STDEVP('Giorni'!B75:B81) | E15: =IF(B15=0,"",IF(D15=0,10,MIN(10,C15/D15))) | F15: =IF(E15="","",B15*E15)
A16: ='Giorni'!A82 | B16: =SUM('Giorni'!B82:B88) | C16: =AVERAGE('Giorni'!B82:B88) | D16: =STDEVP('Giorni'!B82:B88) | E16: =IF(B16=0,"",IF(D16=0,10,MIN(10,C16/D16))) | F16: =IF(E16="","",B16*E16)
